Workbook

Sheet Recaudac.mensual 
D3: Recaudación Mensual | I3: Mayo | O3: 2026
B5: MES | C5: AÑO | D5: LINEA 1 | E5: LINEA 2 | F5: LINEA 3 | G5: LINEA 4 | H5: LINEA 5 | I5: LINEA 6 | J5: LINEA 7 | K5: LINEA 8 | L5: LINEA 9 | M5: LÍNEA 10 | N5: TOTAL VALENCIA | O5: TOTAL ALICANTE | P5: TOTAL F.G.V
A7: 113 | B7: Enero | C7: ='[1]Informe de Estadisticas '!B4 -> 45658 | D7: 809016.34 | E7: 750179.67 | F7: 1562032.9 | G7: 663663.19 | H7: 1268748.6 | I7: 192744 | J7: 628620.01 | K7: 36305.61 | L7: 897287.51 | M7: 284101.6 | N7: 7092699.4 | O7: 615530.79 | P7: 7708230.2
A8: 114 | C8: ='[1]Informe de Estadisticas '!B5 -> 46023 | D8: 956234.59 | E8: 942820.09 | F8: 1474992.8 | G8: 616271.88 | H8: 1233771.8 | I8: 188980.36 | J8: 821838.57 | K8: 25083.98 | L8: 850069.98 | M8: 242515.57 | N8: 7352579.6 | O8: 690981.03 | P8: 8043560.7
A9: 213 | B9: Febrero | C9: ='[1]Informe de Estadisticas '!B6 -> 45689 | D9: 1009784.7 | E9: 926535.64 | F9: 1867727.6 | G9: 807782.98 | H9: 1536212.2 | I9: 238802.76 | J9: 788097.26 | K9: 41145.26 | L9: 1060181.8 | M9: 337259.78 | N9: 8613530 | O9: 696119.36 | P9: 9309649.4
A10: 214 | C10: ='[1]Informe de Estadisticas '!B7 -> 46054 | D10: 993962.59 | E10: 953620.21 | F10: 1553688.9 | G10: 684805.43 | H10: 1313250.2 | I10: 199430.01 | J10: 861610.22 | K10: 27013.21 | L10: 880074.53 | M10: 258424.22 | N10: 7725879.6 | O10: 1355650.4 | P10: 9081529.9
A11: 313 | B11: Marzo | C11: ='[1]Informe de Estadisticas '!B8 -> 45717 | D11: 1006023 | E11: 930629.6 | F11: 1833747.3 | G11: 718114.42 | H11: 1542357.4 | I11: 208246.21 | J11: 865999.26 | K11: 34903.29 | L11: 993158.17 | M11: 374834.29 | N11: 8508012.9 | O11: 709992.75 | P11: 9218005.6
A12: 314 | C12: ='[1]Informe de Estadisticas '!B9 -> 46082 | D12: 1276014.7 | E12: 1236176.5 | F12: 1987525.9 | G12: 849604.14 | H12: 1647878.4 | I12: 243606.7 | J12: 1112704.8 | K12: 36628.85 | L12: 1085781.2 | M12: 300402.65 | N12: 9776323.9 | O12: 757686.28 | P12: 10534010
A13: 413 | B13: Abril | C13: ='[1]Informe de Estadisticas '!B10 -> 45748 | D13: 847565.49 | E13: 794254.48 | F13: 1495216.3 | G13: 672705.17 | H13: 1268213.5 | I13: 210485.33 | J13: 705053.66 | K13: 44576.53 | L13: 808672.76 | M13: 281451.8 | N13: 7128195 | O13: 811723.5 | P13: 7939918.5
A14: 414 | C14: ='[1]Informe de Estadisticas '!B11 -> 46113 | D14: 1020553 | E14: 992431.15 | F14: 1628425.5 | G14: 717631.38 | H14: 1400030.4 | I14: 218740.25 | J14: 882354.91 | K14: 39206.07 | L14: 877031.37 | M14: 260357.29 | N14: 8036761.3 | O14: 1206904.9 | P14: 9243666.2
A15: 513 | B15: Mayo | C15: ='[1]Informe de Estadisticas '!B12 -> 45778 | D15: 950986.14 | E15: 889898.89 | F15: 1702619.6 | G15: 756364.05 | H15: 1429251.2 | I15: 237348.03 | J15: 783184.82 | K15: 49368.01 | L15: 929466.9 | M15: 309708.44 | N15: 8038196.1 | O15: 800500.12 | P15: 8838696.3
A16: 514 | C16: ='[1]Informe de Estadisticas '!B13 -> 46143 | D16: 998609.74 | E16: 966324.07 | F16: 1593465.9 | G16: 703324.43 | H16: 1389112.7 | I16: 226055.89 | J16: 881676.81 | K16: 38722.59 | L16: 867450.06 | M16: 249805.35 | N16: 7914547.6 | O16: 1244278.7 | P16: 9158826.3
A17: 613 | B17: Junio | C17: ='[1]Informe de Estadisticas '!B14 -> 45809 | D17: 835469.05 | E17: 792991.2 | F17: 1442022.3 | G17: 677702.23 | H17: 1220362.7 | I17: 202644.22 | J17: 695761.03 | K17: 34822.97 | L17: 795214.35 | M17: 269272.01 | N17: 6966262.1 | O17: 1209039.7 | P17: 8175301.8
A18: 614 | C18: ='[1]Informe de Estadisticas '!B15 -> 46174 | D18: 0 | E18: 0 | F18: 0 | G18: 0 | H18: 0 | I18: 0 | J18: 0 | K18: 0 | L18: 0 | M18: 0 | N18: 0 | O18: 0
A19: 713 | B19: Julio | C19: ='[1]Informe de Estadisticas '!B16 -> 45839 | D19: 743996.66 | E19: 798383.53 | F19: 1359223.9 | G19: 552221.49 | H19: 1040488.2 | I19: 158589.52 | J19: 552028.91 | K19: 20393.12 | L19: 770964.51 | M19: 232246.71 | N19: 6228536.6 | O19: 1032311.9 | P19: 7260848.5
A20: 714 | C20: ='[1]Informe de Estadisticas '!B17 -> 46204 | D20: 0 | E20: 0 | F20: 0 | G20: 0 | H20: 0 | I20: 0 | J20: 0 | K20: 0 | L20: 0 | M20: 0 | N20: 0 | O20: 0
A21: 813 | B21: Agosto | C21: ='[1]Informe de Estadisticas '!B18 -> 45870 | D21: 588298.02 | E21: 641221.44 | F21: 1041861.8 | G21: 407345.15 | H21: 832145.74 | I21: 122190.12 | J21: 426624.8 | K21: 17551.26 | L21: 573622.02 | M21: 187153.36 | N21: 4838013.7 | O21: 1630609.3 | P21: 6468623
A22: 814 | C22: ='[1]Informe de Estadisticas '!B19 -> 46235 | D22: 0 | E22: 0 | F22: 0 | G22: 0 | H22: 0 | I22: 0 | J22: 0 | K22: 0 | L22: 0 | M22: 0 | N22: 0 | O22: 0
A23: 913 | B23: Septiembre | C23: ='[1]Informe de Estadisticas '!B20 -> 45901 | D23: 965713.4 | E23: 942638.7 | F23: 1594498.1 | G23: 681515.48 | H23: 1330245.1 | I23: 203047.54 | J23: 835087.35 | K23: 35812.57 | L23: 897616.17 | M23: 246637.34 | N23: 7732811.7 | O23: 1269588.8 | P23: 9002400.6
A24: 914 | C24: ='[1]Informe de Estadisticas '!B21 -> 46266 | D24: 0 | E24: 0 | F24: 0 | G24: 0 | H24: 0 | I24: 0 | J24: 0 | K24: 0 | L24: 0 | M24: 0 | N24: 0 | O24: 0
A25: 1013 | B25: Octubre | C25: ='[1]Informe de Estadisticas '!B22 -> 45931 | D25: 1185427 | E25: 1173220.3 | F25: 1909160.9 | G25: 801205.63 | H25: 1630676 | I25: 238347.95 | J25: 1055066.4 | K25: 33578.25 | L25: 1096348.2 | M25: 299496.68 | N25: 9422527.3 | O25: 1105729.2 | P25: 10528256
A26: 1014 | C26: ='[1]Informe de Estadisticas '!B23 -> 46296 | D26: 0 | E26: 0 | F26: 0 | G26: 0 | H26: 0 | I26: 0 | J26: 0 | K26: 0 | L26: 0 | M26: 0 | N26: 0 | O26: 0
A27: 1113 | B27: Noviembre | C27: ='[1]Informe de Estadisticas '!B24 -> 45962 | D27: 709235.84 | E27: 692471.53 | F27: 1193600.1 | G27: 465571.79 | H27: 1026045 | I27: 135026.78 | J27: 637080.29 | K27: 14975.76 | L27: 664085.49 | M27: 178262.52 | N27: 5716355.1 | O27: 1086089.3 | P27: 6802444.4
A28: 1114 | C28: ='[1]Informe de Estadisticas '!B25 -> 46327 | D28: 0 | E28: 0 | F28: 0 | G28: 0 | H28: 0 | I28: 0 | J28: 0 | K28: 0 | L28: 0 | M28: 0 | N28: 0 | O28: 0
A29: 1213 | B29: Diciembre | C29: ='[1]Informe de Estadisticas '!B26 -> 45992 | D29: 1085457 | E29: 987115.3 | F29: 1659706.9 | G29: 607906.19 | H29: 1288575.5 | I29: 179378.92 | J29: 837510.24 | K29: 21589.15 | L29: 876227.07 | M29: 217247.7 | N29: 7760713.9 | O29: 1324820.5 | P29: 9085534.4
A30: 1214 | C30: ='[1]Informe de Estadisticas '!B27 -> 46357 | D30: 0 | E30: 0 | F30: 0 | G30: 0 | H30: 0 | I30: 0 | J30: 0 | K30: 0 | L30: 0 | M30: 0 | N30: 0 | O30: 0
B34: Recaudación mensual Alicante
B35: MES | C35: AÑO | D35: LINEA 1 | E35: LINEA 2 | F35: LINEA 3 | G35: LINEA 4 | H35: LINEA 5 | I35: LINEA 9 | J35: TOTAL ALICANTE
B37: Enero | C37: =+$C$7 -> 45658 | D37: 171425.33 | E37: 210265.32 | F37: 80203.662 | G37: 58044.553 | H37: 31022.752 | I37: 64569.18 | J37: 615530.79
C38: =+$C$8 -> 46023 | D38: 192438.22 | E38: 236039.12 | F38: 90034.828 | G38: 65159.511 | H38: 34825.444 | I38: 72483.91 | J38: 690981.03
C39: Diferencia | D39: 21012.892 | E39: 25773.802 | F39: 9831.1663 | G39: 7114.9576 | H39: 3802.6921 | I39: 7914.7302 | J39: 75450.24
C40: % | D40: 0.12257752 | E40: 0.12257752 | F40: 0.12257752 | G40: 0.12257752 | H40: 0.12257752 | I40: 0.12257752 | J40: 0.12257752
B41: Febrero | C41: =+$C$7 -> 45658 | D41: 195806.54 | E41: 236904.06 | F41: 90356.182 | G41: 65394.335 | H41: 34947.09 | I41: 72711.153 | J41: 696119.36
C42: =+$C$8 -> 46023 | D42: 377548.63 | E42: 463090.16 | F42: 176641.24 | G42: 127837.83 | H42: 68324.778 | I42: 142207.72 | J42: 1355650.4
C43: Diferencia | D43: 181742.08 | E43: 226186.1 | F43: 86285.059 | G43: 62443.494 | H43: 33377.688 | I43: 69496.57 | J43: 659531
C44: % | D44: 0.92817167 | E44: 0.95475825 | F44: 0.95494361 | G44: 0.9548762 | H44: 0.95509203 | I44: 0.95578969 | J44: 0.94743953
B45: Marzo | C45: =+$C$7 -> 45658 | D45: 199283.14 | E45: 241828.08 | F45: 92236.262 | G45: 66755.727 | H45: 35675.817 | I45: 74213.727 | J45: 709992.75
C46: =+$C$8 -> 46023 | D46: 211015.63 | E46: 258825.63 | F46: 98726.522 | G46: 71449.816 | H46: 38187.389 | I46: 79481.291 | J46: 757686.28
C47: Diferencia | D47: 11732.489 | E47: 16997.557 | F47: 6490.2599 | G47: 4694.0891 | H47: 2511.5711 | I47: 5267.5636 | J47: 47693.53
C48: % | D48: 0.058873467 | E48: 0.070287773 | F48: 0.0703656 | G48: 0.070317398 | H48: 0.07039982 | I48: 0.070978292 | J48: 0.067174672
B49: Abril | C49: =+$C$7 -> 45658 | D49: 227687.26 | E49: 276564.16 | F49: 105493.22 | G49: 76347.28 | H49: 40794.891 | I49: 84836.697 | J49: 811723.5
C50: =+$C$8 -> 46023 | D50: 336123.01 | E50: 412278.7 | F50: 157259.71 | G50: 113811.13 | H50: 60828.006 | I50: 126604.32 | J50: 1206904.9
C51: Diferencia | D51: 108435.75 | E51: 135714.55 | F51: 51766.486 | G51: 37463.85 | H51: 20033.115 | I51: 41767.624 | J51: 395181.37
C52: % | D52: 0.47624866 | E52: 0.49071633 | F52: 0.49070914 | G52: 0.49070314 | H52: 0.49106921 | I52: 0.49232968 | J52: 0.48684235
B53: Mayo | C53: =+$C$7 -> 45658 | D53: 225687.02 | E53: 272181.76 | F53: 103821.7 | G53: 75133.715 | H53: 40149.861 | I53: 83526.063 | J53: 800500.12
C54: =+$C$8 -> 46023 | D54: 346531.62 | E54: 425045.61 | F54: 162129.52 | G54: 117335.48 | H54: 62711.647 | I54: 130524.84 | J54: 1244278.7
C55: Diferencia | D55: 120844.6 | E55: 152863.85 | F55: 58307.812 | G55: 42201.766 | H55: 22561.786 | I55: 46998.773 | J55: 443778.58
C56: % | D56: 0.53545213 | E56: 0.56162416 | F56: 0.56161487 | G56: 0.5616888 | H56: 0.56193931 | I56: 0.56268392 | J56: 0.55437666
B57: Junio | C57: =+$C$7 -> 45658 | D57: 336717.55 | E57: 413007.96 | F57: 157537.87 | G57: 114012.44 | H57: 60935.6 | I57: 126828.26 | J57: 1209039.7
C58: =+$C$8 -> 46023 | J58: 0
C59: Diferencia | D59: -336717.55 | E59: -413007.96 | F59: -157537.87 | G59: -114012.44 | H59: -60935.6 | I59: -126828.26 | J59: -1209039.7
C60: % | D60: -1 | E60: -1 | F60: -1 | G60: -1 | H60: -1 | I60: -1 | J60: -1
B61: Julio | C61: =+$C$7 -> 45658 | D61: 287498.88 | E61: 352637.76 | F61: 134510.25 | G61: 97347.017 | H61: 52028.522 | I61: 108289.52 | J61: 1032311.9
C62: =+$C$8 -> 46023 | J62: 0
C63: Diferencia | D63: -287498.88 | E63: -352637.76 | F63: -134510.25 | G63: -97347.017 | H63: -52028.522 | I63: -108289.52 | J63: -1032311.9
C64: % | D64: -1 | E64: -1 | F64: -1 | G64: -1 | H64: -1 | I64: -1 | J64: -1
B65: Agosto | C65: =+$C$7 -> 45658 | D65: 454124.7 | E65: 557016.15 | F65: 212468.4 | G65: 153766.46 | H65: 82182.711 | I65: 171050.92 | J65: 1630609.3
C66: =+$C$8 -> 46023 | J66: 0
C67: Diferencia | D67: -454124.7 | E67: -557016.15 | F67: -212468.4 | G67: -153766.46 | H67: -82182.711 | I67: -171050.92 | J67: -1630609.3
C68: % | D68: -1 | E68: -1 | F68: -1 | G68: -1 | H68: -1 | I68: -1 | J68: -1
B69: Septiembre | C69: =+$C$7 -> 45658 | D69: 353580.49 | E69: 433691.54 | F69: 165427.42 | G69: 119722.23 | H69: 63987.277 | I69: 133179.87 | J69: 1269588.8
C70: =+$C$8 -> 46023 | J70: 0
C71: Diferencia | D71: -353580.49 | E71: -433691.54 | F71: -165427.42 | G71: -119722.23 | H71: -63987.277 | I71: -133179.87 | J71: -1269588.8
C72: % | D72: -1 | E72: -1 | F72: -1 | G72: -1 | H72: -1 | I72: -1 | J72: -1
B73: Octubre | C73: =+$C$7 -> 45658 | D73: 307945.58 | E73: 377717.09 | F73: 144076.51 | G73: 104270.26 | H73: 55728.751 | I73: 115990.99 | J73: 1105729.2
C74: =+$C$8 -> 46023 | J74: 0
C75: Diferencia | D75: -307945.58 | E75: -377717.09 | F75: -144076.51 | G75: -104270.26 | H75: -55728.751 | I75: -115990.99 | J75: -1105729.2
C76: % | D76: -1 | E76: -1 | F76: -1 | G76: -1 | H76: -1 | I76: -1 | J76: -1
B77: Noviembre | C77: =+$C$7 -> 45658 | D77: 302475.86 | E77: 371008.09 | F77: 141517.43 | G77: 102418.22 | H77: 54738.899 | I77: 113930.76 | J77: 1086089.3
C78: =+$C$8 -> 46023 | J78: 0
C79: Diferencia | D79: -302475.86 | E79: -371008.09 | F79: -141517.43 | G79: -102418.22 | H79: -54738.899 | I79: -113930.76 | J79: -1086089.3
C80: % | D80: -1 | E80: -1 | F80: -1 | G80: -1 | H80: -1 | I80: -1 | J80: -1
B81: Diciembre | C81: =+$C$7 -> 45658 | D81: 368962.5 | E81: 452558.67 | F81: 172624.11 | G81: 124930.57 | H81: 66770.952 | I81: 138973.67 | J81: 1324820.5
C82: =+$C$8 -> 46023 | J82: 0
C83: Diferencia | D83: -368962.5 | E83: -452558.67 | F83: -172624.11 | G83: -124930.57 | H83: -66770.952 | I83: -138973.67 | J83: -1324820.5
C84: % | D84: -1 | E84: -1 | F84: -1 | G84: -1 | H84: -1 | I84: -1 | J84: -1

Sheet Recaudac. Acumul.
C3: Recaudación Acumulada | H3: =+'Recaudac.mensual '!I3 -> Mayo | N3: ='Recaudac.mensual '!O3 -> 2026
A5: MES | B5: AÑO | C5: LINEA 1 | D5: LINEA 2 | E5: LINEA 3 | F5: LINEA 4 | G5: LINEA 5 | H5: LINEA 6 | I5: LINEA 7 | J5: LINEA 8 | K5: LINEA 9 | L5: LINEA 10 | M5: TOTAL VALENCIA | N5: TOTAL ALICANTE | O5: TOTAL F.G.V
A7: Enero | B7: ='Recaudac.mensual '!C7 -> 45658 | C7: 809016.34 | D7: 750179.67 | E7: 1562032.9 | F7: 663663.19 | G7: 1268748.6 | H7: 192744 | I7: 628620.01 | J7: 36305.61 | K7: 897287.51 | L7: 284101.6 | M7: 7092699.4 | N7: 615530.79 | O7: 7708230.2
B8: ='Recaudac.mensual '!C8 -> 46023 | C8: 956234.59 | D8: 942820.09 | E8: 1474992.8 | F8: 616271.88 | G8: 1233771.8 | H8: 188980.36 | I8: 821838.57 | J8: 25083.98 | K8: 850069.98 | L8: 242515.57 | M8: 7352579.6 | N8: 690981.03 | O8: 8043560.7
A9: Febrero | B9: ='Recaudac.mensual '!C9 -> 45689 | C9: 1818801.1 | D9: 1676715.3 | E9: 3429760.5 | F9: 1471446.2 | G9: 2804960.8 | H9: 431546.76 | I9: 1416717.3 | J9: 77450.87 | K9: 1957469.3 | L9: 621361.38 | M9: 15706229 | N9: 1311650.1 | O9: 17017880
B10: ='Recaudac.mensual '!C10 -> 46054 | C10: 1950197.2 | D10: 1896440.3 | E10: 3028681.8 | F10: 1301077.3 | G10: 2547022 | H10: 388410.37 | I10: 1683448.8 | J10: 52097.19 | K10: 1730144.5 | L10: 500939.79 | M10: 15078459 | N10: 2046631.4 | O10: 17125091
A11: Marzo | B11: ='Recaudac.mensual '!C11 -> 45717 | C11: 2824824 | D11: 2607344.9 | E11: 5263507.9 | F11: 2189560.6 | G11: 4347318.2 | H11: 639792.97 | I11: 2282716.5 | J11: 112354.16 | K11: 2950627.5 | L11: 996195.67 | M11: 24214242 | N11: 2021642.9 | O11: 26235885
B12: ='Recaudac.mensual '!C12 -> 46082 | C12: 3226211.9 | D12: 3132616.8 | E12: 5016207.7 | F12: 2150681.5 | G12: 4194900.4 | H12: 632017.07 | I12: 2796153.6 | J12: 88726.04 | K12: 2815925.7 | L12: 801342.44 | M12: 24854783 | N12: 2804317.7 | O12: 27659101
A13: Abril | B13: ='Recaudac.mensual '!C13 -> 45748 | C13: 3672389.5 | D13: 3401599.4 | E13: 6758724.2 | F13: 2862265.8 | G13: 5615531.7 | H13: 850278.3 | I13: 2987770.2 | J13: 156930.69 | K13: 3759300.2 | L13: 1277647.5 | M13: 31342437 | N13: 2833366.4 | O13: 34175804
B14: ='Recaudac.mensual '!C14 -> 46113 | C14: 4246764.9 | D14: 4125048 | E14: 6644633.2 | F14: 2868312.8 | G14: 5594930.8 | H14: 850757.32 | I14: 3678508.5 | J14: 127932.11 | K14: 3692957.1 | L14: 1061699.7 | M14: 32891544 | N14: 4011222.5 | O14: 36902767
A15: Mayo | B15: ='Recaudac.mensual '!C15 -> 45778 | C15: 4623375.6 | D15: 4291498.3 | E15: 8461343.8 | F15: 3618629.8 | G15: 7044782.9 | H15: 1087626.3 | I15: 3770955 | J15: 206298.7 | K15: 4688767.1 | L15: 1587355.9 | M15: 39380633 | N15: 3633866.5 | O15: 43014500
B16: ='Recaudac.mensual '!C16 -> 46143 | C16: 5245374.6 | D16: 5091372 | E16: 8238099.1 | F16: 3571637.3 | G16: 6984043.6 | H16: 1076813.2 | I16: 4560185.3 | J16: 166654.7 | K16: 4560407.1 | L16: 1311505.1 | M16: 40806092 | N16: 5255501.2 | O16: 46061593
A17: Junio | B17: ='Recaudac.mensual '!C17 -> 45809 | C17: 5458844.7 | D17: 5084489.5 | E17: 9903366.1 | F17: 4296332 | G17: 8265145.6 | H17: 1290270.5 | I17: 4466716 | J17: 241121.67 | K17: 5483981.5 | L17: 1856627.9 | M17: 46346896 | N17: 4842906.2 | O17: 51189802
B18: ='Recaudac.mensual '!C18 -> 46174
A19: Julio | B19: ='Recaudac.mensual '!C19 -> 45839 | C19: 6202841.4 | D19: 5882873 | E19: 11262590 | F19: 4848553.5 | G19: 9305633.8 | H19: 1448860.1 | I19: 5018745 | J19: 261514.79 | K19: 6254946 | L19: 2088874.6 | M19: 52575432 | N19: 5875218.2 | O19: 58450650
B20: ='Recaudac.mensual '!C20 -> 46204
A21: Agosto | B21: ='Recaudac.mensual '!C21 -> 45870 | C21: 6791139.4 | D21: 6524094.5 | E21: 12304452 | F21: 5255898.7 | G21: 10137780 | H21: 1571050.2 | I21: 5445369.8 | J21: 279066.05 | K21: 6828568 | L21: 2276028 | M21: 57413446 | N21: 7505827.5 | O21: 64919273
B22: ='Recaudac.mensual '!C22 -> 46235
A23: Septiembre | B23: ='Recaudac.mensual '!C23 -> 45901 | C23: 7756852.8 | D23: 7466733.2 | E23: 13898950 | F23: 5937414.2 | G23: 11468025 | H23: 1774097.7 | I23: 6280457.1 | J23: 314878.62 | K23: 7726184.2 | L23: 2522665.3 | M23: 65146258 | N23: 8775416.3 | O23: 73921674
B24: ='Recaudac.mensual '!C24 -> 46266
A25: Octubre | B25: ='Recaudac.mensual '!C25 -> 45931 | C25: 8942279.7 | D25: 8639953.4 | E25: 15808111 | F25: 6738619.8 | G25: 13098701 | H25: 2012445.7 | I25: 7335523.5 | J25: 348456.87 | K25: 8822532.4 | L25: 2822162 | M25: 74568785 | N25: 9881145.5 | O25: 84449930
B26: ='Recaudac.mensual '!C26 -> 46296
A27: Noviembre | B27: ='Recaudac.mensual '!C27 -> 45962 | C27: 9651515.6 | D27: 9332425 | E27: 17001711 | F27: 7204191.6 | G27: 14124746 | H27: 2147472.5 | I27: 7972603.8 | J27: 363432.63 | K27: 9486617.9 | L27: 3000424.5 | M27: 80285140 | N27: 10967235 | O27: 91252375
B28: ='Recaudac.mensual '!C28 -> 46327
A29: Diciembre | B29: ='Recaudac.mensual '!C29 -> 45992 | C29: 10736973 | D29: 10319540 | E29: 18661418 | F29: 7812097.8 | G29: 15413321 | H29: 2326851.4 | I29: 8810114.1 | J29: 385021.78 | K29: 10362845 | L29: 3217672.2 | M29: 88045854 | N29: 12292055 | O29: 1.0033791e+08
B30: ='Recaudac.mensual '!C30 -> 46357
A34: Recaudación mensual acumulada Alicante
A35: MES | B35: AÑO | C35: LINEA 1 | D35: LINEA 2 | E35: LINEA 3 | F35: LINEA 4 | G35: LINEA 5 | H35: LINEA 9 | I35: TOTAL ALICANTE
A37: Enero | B37: =+'[1]Informe de Estadisticas '!$B$4 -> 45658 | C37: 171425.33 | D37: 210265.32 | E37: 80203.662 | F37: 58044.553 | G37: 31022.752 | H37: 64569.18 | I37: 615530.79
B38: =+'[1]Informe de Estadisticas '!$B$5 -> 46023 | C38: 192438.22 | D38: 236039.12 | E38: 90034.828 | F38: 65159.511 | G38: 34825.444 | H38: 72483.91 | I38: 690981.03
B39: Diferencia | C39: 21012.892 | D39: 25773.802 | E39: 9831.1663 | F39: 7114.9576 | G39: 3802.6921 | H39: 7914.7302 | I39: 75450.24
B40: % | C40: 0.12257752 | D40: 0.12257752 | E40: 0.12257752 | F40: 0.12257752 | G40: 0.12257752 | H40: 0.12257752 | I40: 0.12257752
A41: Febrero | B41: =+'[1]Informe de Estadisticas '!$B$4 -> 45658 | C41: 367231.87 | D41: 447169.38 | E41: 170559.84 | F41: 123438.89 | G41: 65969.842 | H41: 137280.33 | I41: 1311650.1
B42: =+'[1]Informe de Estadisticas '!$B$5 -> 46023 | C42: 569986.84 | D42: 699129.28 | E42: 266676.07 | F42: 192997.34 | G42: 103150.22 | H42: 214691.63 | I42: 2046631.4
B43: Diferencia | C43: 202754.98 | D43: 251959.91 | E43: 96116.226 | F43: 69558.452 | G43: 37180.38 | H43: 77411.3 | I43: 734981.24
B44: % | C44: 0.55211705 | D44: 0.56345519 | E44: 0.56353373 | F44: 0.56350517 | G44: 0.56359661 | H44: 0.56389214 | I44: 0.56034854
A45: Marzo | B45: =+'[1]Informe de Estadisticas '!$B$4 -> 45658 | C45: 566515.01 | D45: 688997.45 | E45: 262796.11 | F45: 190194.62 | G45: 101645.66 | H45: 211494.06 | I45: 2021642.9
B46: =+'[1]Informe de Estadisticas '!$B$5 -> 46023 | C46: 781002.47 | D46: 957954.92 | E46: 365402.59 | F46: 264447.16 | G46: 141337.61 | H46: 294172.92 | I46: 2804317.7
B47: Diferencia | C47: 214487.47 | D47: 268957.46 | E47: 102606.49 | F47: 74252.541 | G47: 39691.951 | H47: 82678.864 | I47: 782674.77
B48: % | C48: 0.37860862 | D48: 0.39036061 | E48: 0.39044142 | F48: 0.39040296 | G48: 0.39049332 | H48: 0.39092759 | I48: 0.38714788
A49: Abril | B49: =+'[1]Informe de Estadisticas '!$B$4 -> 45658 | C49: 794202.26 | D49: 965561.61 | E49: 368289.33 | F49: 266541.9 | G49: 142440.55 | H49: 296330.76 | I49: 2833366.4
B50: =+'[1]Informe de Estadisticas '!$B$5 -> 46023 | C50: 1117125.5 | D50: 1370233.6 | E50: 522662.3 | F50: 378258.29 | G50: 202165.62 | H50: 420777.24 | I50: 4011222.5
B51: Diferencia | C51: 322923.22 | D51: 404672.01 | E51: 154372.97 | F51: 111716.39 | G51: 59725.066 | H51: 124446.49 | I51: 1177856.1
B52: % | C52: 0.40660073 | D52: 0.41910532 | E52: 0.41916222 | F52: 0.41913257 | G52: 0.4192982 | H52: 0.41995805 | I52: 0.41570908
A53: Mayo | B53: =+'[1]Informe de Estadisticas '!$B$4 -> 45658 | C53: 1019889.3 | D53: 1237743.4 | E53: 472111.03 | F53: 341675.61 | G53: 182590.41 | H53: 379856.82 | I53: 3633866.5
B54: =+'[1]Informe de Estadisticas '!$B$5 -> 46023 | C54: 1463657.1 | D54: 1795279.2 | E54: 684791.81 | F54: 495593.77 | G54: 264877.26 | H54: 551302.08 | I54: 5255501.2
B55: Diferencia | C55: 443767.81 | D55: 557535.86 | E55: 212680.78 | F55: 153918.16 | G55: 82286.851 | H55: 171445.26 | I55: 1621634.7
B56: % | C56: 0.43511371 | D56: 0.45044545 | E56: 0.45048891 | F56: 0.45048037 | G56: 0.45066359 | H56: 0.4513418 | I56: 0.446256
A57: Junio | B57: =+'[1]Informe de Estadisticas '!$B$4 -> 45658 | C57: 1356606.8 | D57: 1650751.3 | E57: 629648.9 | F57: 455688.05 | G57: 243526.01 | H57: 506685.08 | I57: 4842906.2
B58: =+'[1]Informe de Estadisticas '!$B$5 -> 46023 | I58: 0
B59: Diferencia | C59: -1356606.8 | D59: -1650751.3 | E59: -629648.9 | F59: -455688.05 | G59: -243526.01 | H59: -506685.08 | I59: -4842906.2
B60: % | C60: -1 | D60: -1 | E60: -1 | F60: -1 | G60: -1 | H60: -1 | I60: -1
A61: Julio | B61: =+'[1]Informe de Estadisticas '!$B$4 -> 45658 | C61: 1644105.7 | D61: 2003389.1 | E61: 764159.15 | F61: 553035.07 | G61: 295554.53 | H61: 614974.61 | I61: 5875218.2
B62: =+'[1]Informe de Estadisticas '!$B$5 -> 46023 | I62: 0
B63: Diferencia | C63: -1644105.7 | D63: -2003389.1 | E63: -764159.15 | F63: -553035.07 | G63: -295554.53 | H63: -614974.61 | I63: -5875218.2
B64: % | C64: -1 | D64: -1 | E64: -1 | F64: -1 | G64: -1 | H64: -1 | I64: -1
A65: Agosto | B65: =+'[1]Informe de Estadisticas '!$B$4 -> 45658 | C65: 2098230.4 | D65: 2560405.2 | E65: 976627.55 | F65: 706801.53 | G65: 377737.25 | H65: 786025.53 | I65: 7505827.5
B66: =+'[1]Informe de Estadisticas '!$B$5 -> 46023 | I66: 0
B67: Diferencia | C67: -2098230.4 | D67: -2560405.2 | E67: -976627.55 | F67: -706801.53 | G67: -377737.25 | H67: -786025.53 | I67: -7505827.5
B68: % | C68: -1 | D68: -1 | E68: -1 | F68: -1 | G68: -1 | H68: -1 | I68: -1
A69: Septiembre | B69: =+'[1]Informe de Estadisticas '!$B$4 -> 45658 | C69: 2451810.9 | D69: 2994096.8 | E69: 1142055 | F69: 826523.76 | G69: 441724.52 | H69: 919205.4 | I69: 8775416.3
B70: =+'[1]Informe de Estadisticas '!$B$5 -> 46023 | I70: 0
B71: Diferencia | C71: -2451810.9 | D71: -2994096.8 | E71: -1142055 | F71: -826523.76 | G71: -441724.52 | H71: -919205.4 | I71: -8775416.3
B72: % | C72: -1 | D72: -1 | E72: -1 | F72: -1 | G72: -1 | H72: -1 | I72: -1
A73: Octubre | B73: =+'[1]Informe de Estadisticas '!$B$4 -> 45658 | C73: 2759756.5 | D73: 3371813.9 | E73: 1286131.5 | F73: 930794.02 | G73: 497453.27 | H73: 1035196.4 | I73: 9881145.5
B74: =+'[1]Informe de Estadisticas '!$B$5 -> 46023 | I74: 0
B75: Diferencia | C75: -2759756.5 | D75: -3371813.9 | E75: -1286131.5 | F75: -930794.02 | G75: -497453.27 | H75: -1035196.4 | I75: -9881145.5
B76: % | C76: -1 | D76: -1 | E76: -1 | F76: -1 | G76: -1 | H76: -1 | I76: -1
A77: Noviembre | B77: =+'[1]Informe de Estadisticas '!$B$4 -> 45658 | C77: 3062232.3 | D77: 3742822 | E77: 1427648.9 | F77: 1033212.2 | G77: 552192.17 | H77: 1149127.2 | I77: 10967235
B78: =+'[1]Informe de Estadisticas '!$B$5 -> 46023 | I78: 0
B79: Diferencia | C79: -3062232.3 | D79: -3742822 | E79: -1427648.9 | F79: -1033212.2 | G79: -552192.17 | H79: -1149127.2 | I79: -10967235
B80: % | C80: -1 | D80: -1 | E80: -1 | F80: -1 | G80: -1 | H80: -1 | I80: -1
A81: Diciembre | B81: =+'[1]Informe de Estadisticas '!$B$4 -> 45658 | C81: 3431194.8 | D81: 4195380.6 | E81: 1600273 | F81: 1158142.8 | G81: 618963.12 | H81: 1288100.8 | I81: 12292055
B82: =+'[1]Informe de Estadisticas '!$B$5 -> 46023 | I82: 0
B83: Diferencia | C83: -3431194.8 | D83: -4195380.6 | E83: -1600273 | F83: -1158142.8 | G83: -618963.12 | H83: -1288100.8 | I83: -12292055
B84: % | C84: -1 | D84: -1 | E84: -1 | F84: -1 | G84: -1 | H84: -1 | I84: -1
